BEGIN:VCALENDAR
VERSION:2.0
PRODID:-//pretix//pretix.eu//
BEGIN:VTIMEZONE
TZID:Europe/Berlin
BEGIN:STANDARD
DTSTART:20001029T040000
RRULE:FREQ=YEARLY;BYDAY=-1SU;BYMONTH=10
TZNAME:CET
TZOFFSETFROM:+0200
TZOFFSETTO:+0100
END:STANDARD
BEGIN:DAYLIGHT
DTSTART:20000326T030000
RRULE:FREQ=YEARLY;BYDAY=-1SU;BYMONTH=3
TZNAME:CEST
TZOFFSETFROM:+0100
TZOFFSETTO:+0200
END:DAYLIGHT
END:VTIMEZONE
BEGIN:VEVENT
UID:pretix-seibertmedia2-goodwork-0@events.seibert.group
DTSTART;TZID=Europe/Berlin:20250320T163000
DTEND;TZID=Europe/Berlin:20250320T213000
DESCRIPTION:Tickets: https://events.seibert.group/goodwork/\nVeranstalter: 
 Seibert Events
DTSTAMP:20260423T211022Z
LOCATION:Seibert Group GmbH\, Luisenstraße 37-39\, 65185 Wiesbaden
SUMMARY:GOOD WORK Night @ Seibert Group
END:VEVENT
END:VCALENDAR
