BEGIN:VCALENDAR
VERSION:2.0
PRODID:-//pretix//pretix.eu//
BEGIN:VEVENT
UID:pretix-seibertmedia2-automotive-0@events.seibert.group
DTSTART;VALUE=DATE:20240709
DTEND;VALUE=DATE:20240710
DESCRIPTION:Tickets: https://events.seibert.group/automotive/\nEinlass: 09.
 07.2024 09:00\nVeranstalter: Seibert Events
DTSTAMP:20260425T003954Z
LOCATION:Luisenstrasse 37 - 39\, 65185 Wiesbaden
SUMMARY:Automotive Day 9. Juli 2024
END:VEVENT
END:VCALENDAR
